BEGIN:VCALENDAR
VERSION:2.0
PRODID:-//hacksw/handcal//NONSGML v1.0//EN
BEGIN:VEVENT
SUMMARY:Concours Animal 3 D St Maximun
UID:eb15b00d-7d53-4d4b-ada7-f3de56afc8b6
DTSTART:20260703T220000Z
DTEND:20260705T220000Z
LOCATION:Localisation   
CATEGORIES:Sportif
STATUS:
URL;VALUE=URI:https://www.cdar83.fr/evenements/2026/07/04/concours-animal-3-d-st-maximun-2441255
END:VEVENT
END:VCALENDAR
